BEGIN:VCALENDAR
VERSION:2.0
PRODID:-//Philadelphia Alumnae Chapter - ECPv6.15.20//NONSGML v1.0//EN
CALSCALE:GREGORIAN
METHOD:PUBLISH
X-ORIGINAL-URL:https://phillyalumnae-dst.org
X-WR-CALDESC:Events for Philadelphia Alumnae Chapter
REFRESH-INTERVAL;VALUE=DURATION:PT1H
X-Robots-Tag:noindex
X-PUBLISHED-TTL:PT1H
BEGIN:VTIMEZONE
TZID:America/New_York
BEGIN:DAYLIGHT
TZOFFSETFROM:-0500
TZOFFSETTO:-0400
TZNAME:EDT
DTSTART:20230312T070000
END:DAYLIGHT
BEGIN:STANDARD
TZOFFSETFROM:-0400
TZOFFSETTO:-0500
TZNAME:EST
DTSTART:20231105T060000
END:STANDARD
BEGIN:DAYLIGHT
TZOFFSETFROM:-0500
TZOFFSETTO:-0400
TZNAME:EDT
DTSTART:20240310T070000
END:DAYLIGHT
BEGIN:STANDARD
TZOFFSETFROM:-0400
TZOFFSETTO:-0500
TZNAME:EST
DTSTART:20241103T060000
END:STANDARD
BEGIN:DAYLIGHT
TZOFFSETFROM:-0500
TZOFFSETTO:-0400
TZNAME:EDT
DTSTART:20250309T070000
END:DAYLIGHT
BEGIN:STANDARD
TZOFFSETFROM:-0400
TZOFFSETTO:-0500
TZNAME:EST
DTSTART:20251102T060000
END:STANDARD
END:VTIMEZONE
BEGIN:VEVENT
DTSTART;TZID=America/New_York:20240222T113000
DTEND;TZID=America/New_York:20240223T113000
DTSTAMP:20260423T085102
CREATED:20240213T191626Z
LAST-MODIFIED:20240213T191626Z
UID:16434-1708601400-1708687800@phillyalumnae-dst.org
SUMMARY:February Dine With the Deltas
DESCRIPTION:It’s that time again! Join the Philly Deltas for fellowship and fundraising at UNO Pizzeria & Grill for our February Dine with the Deltas! Meet us there ALL DAY on Thursday\, February 22\, 2024 during the hours of 11:30AM – Midnight for brunch\, lunch\, happy hour\, and dinner! UNO’s is located at 1009 Ridge Pike\, Conshohocken\, PA 19428. The Philadelphia Alumnae Chapter will receive 20% of the revenue from your purchase to go towards our community programming and scholarships. This includes dine in and take out. Orders by 3rd party apps are not included with this fundraiser. \nCalling all Sorors\, Divine 9 Greeks\, family\, friends\, and community members to spread the word\, share the flyer\, and get ready to dine!  \n#DineWithTheDeltas #DineWithThePhillyDeltas #DST111 #DST1913
URL:https://phillyalumnae-dst.org/event/february-dine-with-the-deltas/
LOCATION:Uno Pizzeria & Grill\, 1009 Ridge Pike\, Conshohocken\, PA\, 19428
CATEGORIES:Fundraiser,Open to public
ATTACH;FMTTYPE=image/png:https://phillyalumnae-dst.org/wp-content/uploads/2024/02/Screenshot-2024-02-13-at-2.08.08 PM.png
END:VEVENT
END:VCALENDAR