BEGIN:VCALENDAR
VERSION:2.0
PRODID:-//Philadelphia Alumnae Chapter - ECPv6.15.20//NONSGML v1.0//EN
CALSCALE:GREGORIAN
METHOD:PUBLISH
X-ORIGINAL-URL:https://phillyalumnae-dst.org
X-WR-CALDESC:Events for Philadelphia Alumnae Chapter
REFRESH-INTERVAL;VALUE=DURATION:PT1H
X-Robots-Tag:noindex
X-PUBLISHED-TTL:PT1H
BEGIN:VTIMEZONE
TZID:America/New_York
BEGIN:DAYLIGHT
TZOFFSETFROM:-0500
TZOFFSETTO:-0400
TZNAME:EDT
DTSTART:20230312T070000
END:DAYLIGHT
BEGIN:STANDARD
TZOFFSETFROM:-0400
TZOFFSETTO:-0500
TZNAME:EST
DTSTART:20231105T060000
END:STANDARD
BEGIN:DAYLIGHT
TZOFFSETFROM:-0500
TZOFFSETTO:-0400
TZNAME:EDT
DTSTART:20240310T070000
END:DAYLIGHT
BEGIN:STANDARD
TZOFFSETFROM:-0400
TZOFFSETTO:-0500
TZNAME:EST
DTSTART:20241103T060000
END:STANDARD
BEGIN:DAYLIGHT
TZOFFSETFROM:-0500
TZOFFSETTO:-0400
TZNAME:EDT
DTSTART:20250309T070000
END:DAYLIGHT
BEGIN:STANDARD
TZOFFSETFROM:-0400
TZOFFSETTO:-0500
TZNAME:EST
DTSTART:20251102T060000
END:STANDARD
END:VTIMEZONE
BEGIN:VEVENT
DTSTART;TZID=America/New_York:20240224T180000
DTEND;TZID=America/New_York:20240224T210000
DTSTAMP:20260423T085102
CREATED:20240215T172259Z
LAST-MODIFIED:20240215T172259Z
UID:16465-1708797600-1708808400@phillyalumnae-dst.org
SUMMARY:Show the Love Virtual Dance Party
DESCRIPTION:On Saturday\, February 24\, 2024\, the Deltas of the Dynamic & Historic @easternregdst are excited to host the Show the Love Virtual Dance Party from 6:00 PM to 9:00 PM EST! This event promises not only a good time\, cash prize drawing\, but also the invigorating sounds of DJ Vince Adams but also a meaningful opportunity to support the Community Impact initiatives for the 54th Eastern Region Conference of Delta Sigma Theta\, Sorority Inc. \nYou can purchase tickets at the following link: https://form.jotform.com/techdstquakercity/54ERC-Virtual-Dance-Party \nSo tell a friend to tell a friend and we will see you there!\n#PhillyDeltas\n#DST1913
URL:https://phillyalumnae-dst.org/event/show-the-love-virtual-dance-party/
LOCATION:Virtual\, PA\, United States
CATEGORIES:Fundraiser,Open to public
ATTACH;FMTTYPE=image/png:https://phillyalumnae-dst.org/wp-content/uploads/2024/02/VIRTUAL-DANCE-PARTY-FINAL-2-1.png
END:VEVENT
END:VCALENDAR