BEGIN:VCALENDAR
VERSION:2.0
PRODID:-//Philadelphia Alumnae Chapter - ECPv6.15.20//NONSGML v1.0//EN
CALSCALE:GREGORIAN
METHOD:PUBLISH
X-WR-CALNAME:Philadelphia Alumnae Chapter
X-ORIGINAL-URL:https://phillyalumnae-dst.org
X-WR-CALDESC:Events for Philadelphia Alumnae Chapter
REFRESH-INTERVAL;VALUE=DURATION:PT1H
X-Robots-Tag:noindex
X-PUBLISHED-TTL:PT1H
BEGIN:VTIMEZONE
TZID:America/New_York
BEGIN:DAYLIGHT
TZOFFSETFROM:-0500
TZOFFSETTO:-0400
TZNAME:EDT
DTSTART:20230312T070000
END:DAYLIGHT
BEGIN:STANDARD
TZOFFSETFROM:-0400
TZOFFSETTO:-0500
TZNAME:EST
DTSTART:20231105T060000
END:STANDARD
BEGIN:DAYLIGHT
TZOFFSETFROM:-0500
TZOFFSETTO:-0400
TZNAME:EDT
DTSTART:20240310T070000
END:DAYLIGHT
BEGIN:STANDARD
TZOFFSETFROM:-0400
TZOFFSETTO:-0500
TZNAME:EST
DTSTART:20241103T060000
END:STANDARD
BEGIN:DAYLIGHT
TZOFFSETFROM:-0500
TZOFFSETTO:-0400
TZNAME:EDT
DTSTART:20250309T070000
END:DAYLIGHT
BEGIN:STANDARD
TZOFFSETFROM:-0400
TZOFFSETTO:-0500
TZNAME:EST
DTSTART:20251102T060000
END:STANDARD
END:VTIMEZONE
BEGIN:VEVENT
DTSTART;TZID=America/New_York:20240314T100000
DTEND;TZID=America/New_York:20240314T140000
DTSTAMP:20260422T220824
CREATED:20240307T174358Z
LAST-MODIFIED:20240307T175245Z
UID:16596-1710410400-1710424800@phillyalumnae-dst.org
SUMMARY:March Dining With the Deltas Events
DESCRIPTION:March is Women’s History Month and what better way to celebrate than by supporting a Black Women-Owned Business! Join us for this month’s Dine with the Deltas series at Foodchasers’ Kitchen for 4 days from Thursday\, March 14-Sunday\, March 17. Dine in person or order online for takeout and mention that you are with the Philly Deltas for a portion of your sales proceeds to be donated towards our community programming and scholarships. Try our signature dish: The Delta Dynasty!  \nIf you purchased one of our FREADOM t-shirts\, be sure to wear it on Sunday\, March 17th during Dine with the Deltas in support of our Early Literacy Committee and Read Across America!
URL:https://phillyalumnae-dst.org/event/march-dining-with-the-deltas-events/
LOCATION:FoodChasers’ Kitchen\, 7852 Montgomery Avenue\, Elkins Park\, PA\, 19027\, United States
CATEGORIES:Fundraiser,Open to public,Sisterhood
ATTACH;FMTTYPE=image/png:https://phillyalumnae-dst.org/wp-content/uploads/2024/03/FoodChasers-Shakira-Smith.png
ORGANIZER;CN="Ways and Means Committee":MAILTO:fundraising@phillyalumnae-dst.org
END:VEVENT
BEGIN:VEVENT
DTSTART;TZID=America/New_York:20240314T183000
DTEND;TZID=America/New_York:20240314T203000
DTSTAMP:20260422T220824
CREATED:20240304T011240Z
LAST-MODIFIED:20240419T155752Z
UID:16550-1710441000-1710448200@phillyalumnae-dst.org
SUMMARY:Triggering Change: Community Power & Gun Violence
DESCRIPTION:Gun violence touches everyone – directly or indirectly. Mark your calendar and join us in gaining greater understanding through the perspectives\, experiences\, and suggestions from our conversationalists. The 3-Part Series\, “Triggering Change: Community Power & Gun Violence” will occur VIRTUALLY on Thursday\, March 14th\,  Thursday\, April 11th\, and Thursday\, April 25th. Weigh in with your suggestions and let’s talk about how the community – we – can make a difference.  \nPart 1- Trigger & Trauma (March 14th Registration)       Part 2- The Front Line (April 11th Registration)      \n Part 3- Prevention\, Intervention\, Action (April 25th Registration) \n#GunViolencePrevention #SocialAction #PhillyDeltas #DST1913
URL:https://phillyalumnae-dst.org/event/triggering-change-community-power-gun-violence/
LOCATION:Virtual\, PA\, United States
CATEGORIES:Open to public,Political Awareness and Involvement
ATTACH;FMTTYPE=image/png:https://phillyalumnae-dst.org/wp-content/uploads/2024/03/Screenshot-2024-04-19-at-11.56.01 AM.png
ORGANIZER;CN="Social Action Committee":MAILTO:social-action@phillyalumnae-dst.org
END:VEVENT
END:VCALENDAR