BEGIN:VCALENDAR
VERSION:2.0
PRODID:-//Philadelphia Alumnae Chapter - ECPv6.15.20//NONSGML v1.0//EN
CALSCALE:GREGORIAN
METHOD:PUBLISH
X-ORIGINAL-URL:https://phillyalumnae-dst.org
X-WR-CALDESC:Events for Philadelphia Alumnae Chapter
REFRESH-INTERVAL;VALUE=DURATION:PT1H
X-Robots-Tag:noindex
X-PUBLISHED-TTL:PT1H
BEGIN:VTIMEZONE
TZID:America/Halifax
BEGIN:DAYLIGHT
TZOFFSETFROM:-0400
TZOFFSETTO:-0300
TZNAME:ADT
DTSTART:20140309T060000
END:DAYLIGHT
BEGIN:STANDARD
TZOFFSETFROM:-0300
TZOFFSETTO:-0400
TZNAME:AST
DTSTART:20141102T050000
END:STANDARD
BEGIN:DAYLIGHT
TZOFFSETFROM:-0400
TZOFFSETTO:-0300
TZNAME:ADT
DTSTART:20150308T060000
END:DAYLIGHT
BEGIN:STANDARD
TZOFFSETFROM:-0300
TZOFFSETTO:-0400
TZNAME:AST
DTSTART:20151101T050000
END:STANDARD
BEGIN:DAYLIGHT
TZOFFSETFROM:-0400
TZOFFSETTO:-0300
TZNAME:ADT
DTSTART:20160313T060000
END:DAYLIGHT
BEGIN:STANDARD
TZOFFSETFROM:-0300
TZOFFSETTO:-0400
TZNAME:AST
DTSTART:20161106T050000
END:STANDARD
END:VTIMEZONE
BEGIN:VEVENT
DTSTART;TZID=America/Halifax:20150511T120000
DTEND;TZID=America/Halifax:20150511T140000
DTSTAMP:20260422T181420
CREATED:20150511T121151Z
LAST-MODIFIED:20150511T121151Z
UID:2277-1431345600-1431352800@phillyalumnae-dst.org
SUMMARY:May Week ~ Elizabeth Catlett Exhibit
DESCRIPTION:Art for Social Justice\, featuring 24 prints\, mixed media\, and sculptures.\n Please respond to Soror Marguerite Elias Rice at pamapr@verizon.net by May 9\, 2015 if you plan to attend.\n The LaSalle University Art Museum is located on the lower level of Olney Hall on the campus of LaSalle University at 19th Street and Olney Avenue.
URL:https://phillyalumnae-dst.org/event/elizabeth-catlett-exhibit/
LOCATION:LaSalle University Art Musuem\, 19th and Olney\, Philadelphia\, PA
CATEGORIES:Arts & Letters,May Week
END:VEVENT
END:VCALENDAR