BEGIN:VCALENDAR
VERSION:2.0
PRODID:-//Philadelphia Alumnae Chapter - ECPv6.15.20//NONSGML v1.0//EN
CALSCALE:GREGORIAN
METHOD:PUBLISH
X-ORIGINAL-URL:https://phillyalumnae-dst.org
X-WR-CALDESC:Events for Philadelphia Alumnae Chapter
REFRESH-INTERVAL;VALUE=DURATION:PT1H
X-Robots-Tag:noindex
X-PUBLISHED-TTL:PT1H
BEGIN:VTIMEZONE
TZID:America/New_York
BEGIN:DAYLIGHT
TZOFFSETFROM:-0500
TZOFFSETTO:-0400
TZNAME:EDT
DTSTART:20230312T070000
END:DAYLIGHT
BEGIN:STANDARD
TZOFFSETFROM:-0400
TZOFFSETTO:-0500
TZNAME:EST
DTSTART:20231105T060000
END:STANDARD
BEGIN:DAYLIGHT
TZOFFSETFROM:-0500
TZOFFSETTO:-0400
TZNAME:EDT
DTSTART:20240310T070000
END:DAYLIGHT
BEGIN:STANDARD
TZOFFSETFROM:-0400
TZOFFSETTO:-0500
TZNAME:EST
DTSTART:20241103T060000
END:STANDARD
BEGIN:DAYLIGHT
TZOFFSETFROM:-0500
TZOFFSETTO:-0400
TZNAME:EDT
DTSTART:20250309T070000
END:DAYLIGHT
BEGIN:STANDARD
TZOFFSETFROM:-0400
TZOFFSETTO:-0500
TZNAME:EST
DTSTART:20251102T060000
END:STANDARD
END:VTIMEZONE
BEGIN:VEVENT
DTSTART;TZID=America/New_York:20240411T120000
DTEND;TZID=America/New_York:20240412T000000
DTSTAMP:20260419T180502
CREATED:20240408T162948Z
LAST-MODIFIED:20240410T193502Z
UID:16737-1712836800-1712880000@phillyalumnae-dst.org
SUMMARY:April Dine With the Deltas
DESCRIPTION:#DineWithTheDeltas is back at Landmark Americana Tap & Grill\, located at 2481 North 54th Street (near City Avenue) for the month of April! Tell your friends and family to meet us on Thursday\, April 11\, 2024 anytime between Noon and Midnight. The Philadelphia Alumnae Chapter will receive 25% of your takeout or dine-in food bill when you present a printed copy of our flyer at billing/checkout. For this fundraiser\, you must bring a printed copy of the flyer (a black and white copy is sufficient) as it will be attached to your bill for reconciliation later. Third party apps and delivery services are NOT included in this fundraiser. \nCalling All Sorors… other Divine 9 members\, family\, old friends and new friends to join us for lunch\, happy hour\, and/or dinner! Remember to spread the word\, share the flyer\, PRINT the flyer and use #DineWithThePhillyDeltas on social media when you post your pictures! This event is open to the public. \nWe encourage you to print more than one flyer\, just in case a Soror or friend forgets to print. Landmark must staple a flyer to your receipt.
URL:https://phillyalumnae-dst.org/event/april-dine-with-the-deltas-2/
LOCATION:Landmark Americana Tap & Grill\, 2481 N. 54th Street\, Philadelphia\, PA\, United States
CATEGORIES:Fundraiser,Open to public
ATTACH;FMTTYPE=image/png:https://phillyalumnae-dst.org/wp-content/uploads/2024/04/Dine-with-the-Deltas_Landmark-April-11-2024.png
ORGANIZER;CN="Ways and Means Committee":MAILTO:fundraising@phillyalumnae-dst.org
END:VEVENT
BEGIN:VEVENT
DTSTART;TZID=America/New_York:20240411T183000
DTEND;TZID=America/New_York:20240411T203000
DTSTAMP:20260419T180502
CREATED:20240304T011240Z
LAST-MODIFIED:20240419T155752Z
UID:16564-1712860200-1712867400@phillyalumnae-dst.org
SUMMARY:Triggering Change: Community Power & Gun Violence
DESCRIPTION:Gun violence touches everyone – directly or indirectly. Mark your calendar and join us in gaining greater understanding through the perspectives\, experiences\, and suggestions from our conversationalists. The 3-Part Series\, “Triggering Change: Community Power & Gun Violence” will occur VIRTUALLY on Thursday\, March 14th\,  Thursday\, April 11th\, and Thursday\, April 25th. Weigh in with your suggestions and let’s talk about how the community – we – can make a difference.  \nPart 1- Trigger & Trauma (March 14th Registration)       Part 2- The Front Line (April 11th Registration)      \n Part 3- Prevention\, Intervention\, Action (April 25th Registration) \n#GunViolencePrevention #SocialAction #PhillyDeltas #DST1913
URL:https://phillyalumnae-dst.org/event/triggering-change-community-power-gun-violence-2024-04-11/
LOCATION:Virtual\, PA\, United States
CATEGORIES:Open to public,Political Awareness and Involvement
ATTACH;FMTTYPE=image/png:https://phillyalumnae-dst.org/wp-content/uploads/2024/03/Screenshot-2024-04-19-at-11.56.01 AM.png
ORGANIZER;CN="Social Action Committee":MAILTO:social-action@phillyalumnae-dst.org
END:VEVENT
BEGIN:VEVENT
DTSTART;TZID=America/New_York:20240420T080000
DTEND;TZID=America/New_York:20240420T120000
DTSTAMP:20260419T180502
CREATED:20240213T220514Z
LAST-MODIFIED:20240307T191210Z
UID:16441-1713600000-1713614400@phillyalumnae-dst.org
SUMMARY:17th Annual Prayer Breakfast
DESCRIPTION:Get ready for a morning of praise and worship!  \nPhiladelphia Alumnae Chapter’s 17th Annual Prayer Breakfast will be held on Saturday\, April 20\, 2024 at the Sheraton Valley Forge\, 480 North Gulph Road\, King of Prussia\, from 8:30am to 12:00pm. Ticket sales begin at 10am on Wednesday\, February 14\, 2024. Tickets are $85.00 each and a table of ten is $850.00\, plus additional eventbrite fees.  Checks and money orders must include your name\, email address\, and phone number with it and can be mailed to P.O. Box 2356 Bala Cynwyd\, PA 19004 or you can click here to purchase your tables/tickets. Get your tickets quickly! This highly anticipated annual event is paced to sell out! Email any questions to pacprayerbreakfast@gmail.com
URL:https://phillyalumnae-dst.org/event/17th-annual-prayer-breakfast/
LOCATION:Sheraton Valley Forge\, 480 North Gulph Road\, King of Prussia\, PA\, 19406
CATEGORIES:Fundraiser,Open to public
ATTACH;FMTTYPE=image/png:https://phillyalumnae-dst.org/wp-content/uploads/2024/02/IMG_2902-scaled.png
ORGANIZER;CN="Ways and Means Committee":MAILTO:fundraising@phillyalumnae-dst.org
END:VEVENT
BEGIN:VEVENT
DTSTART;TZID=America/New_York:20240420T080000
DTEND;TZID=America/New_York:20240420T120000
DTSTAMP:20260419T180502
CREATED:20240405T013206Z
LAST-MODIFIED:20240405T013206Z
UID:16723-1713600000-1713614400@phillyalumnae-dst.org
SUMMARY:March of Dimes Walk/Run 2024
DESCRIPTION:Join the Philadelphia Alumnae Chapter of Delta Sigma Theta Sorority Inc. in support of the March of Dimes\, a nonprofit organization committed to ending preventable maternal health risks and death\, ending preventable preterm birth and infant death and closing the health equity gap for all families on Saturday\, April 20th at its annual walk/run fundraiser. View the flyer for more details! \nClick HERE to register! \n#PhillyDeltas #SupportMarchofDimes
URL:https://phillyalumnae-dst.org/event/march-of-dimes-walk-run-2024/
LOCATION:Navy Yard\, 4500 S. Broad Street\, Philadelphia\, PA\, 19112\, United States
CATEGORIES:Open to public,Physical and Mental Health
ATTACH;FMTTYPE=image/png:https://phillyalumnae-dst.org/wp-content/uploads/2024/04/Screenshot-2024-04-04-at-9.27.11 PM.png
ORGANIZER;CN="Physical and Mental Health":MAILTO:health@phillyalumnae-dst.org
END:VEVENT
BEGIN:VEVENT
DTSTART;TZID=America/New_York:20240425T183000
DTEND;TZID=America/New_York:20240425T203000
DTSTAMP:20260419T180502
CREATED:20240304T011240Z
LAST-MODIFIED:20240419T155752Z
UID:16565-1714069800-1714077000@phillyalumnae-dst.org
SUMMARY:Triggering Change: Community Power & Gun Violence
DESCRIPTION:Gun violence touches everyone – directly or indirectly. Mark your calendar and join us in gaining greater understanding through the perspectives\, experiences\, and suggestions from our conversationalists. The 3-Part Series\, “Triggering Change: Community Power & Gun Violence” will occur VIRTUALLY on Thursday\, March 14th\,  Thursday\, April 11th\, and Thursday\, April 25th. Weigh in with your suggestions and let’s talk about how the community – we – can make a difference.  \nPart 1- Trigger & Trauma (March 14th Registration)       Part 2- The Front Line (April 11th Registration)      \n Part 3- Prevention\, Intervention\, Action (April 25th Registration) \n#GunViolencePrevention #SocialAction #PhillyDeltas #DST1913
URL:https://phillyalumnae-dst.org/event/triggering-change-community-power-gun-violence-2024-04-25/
LOCATION:Virtual\, PA\, United States
CATEGORIES:Open to public,Political Awareness and Involvement
ATTACH;FMTTYPE=image/png:https://phillyalumnae-dst.org/wp-content/uploads/2024/03/Screenshot-2024-04-19-at-11.56.01 AM.png
ORGANIZER;CN="Social Action Committee":MAILTO:social-action@phillyalumnae-dst.org
END:VEVENT
BEGIN:VEVENT
DTSTART;TZID=America/New_York:20240427T090000
DTEND;TZID=America/New_York:20240427T140000
DTSTAMP:20260419T180502
CREATED:20240405T021354Z
LAST-MODIFIED:20240405T022108Z
UID:16727-1714208400-1714226400@phillyalumnae-dst.org
SUMMARY:Step Into Wellness 2024
DESCRIPTION:Step Into Wellness with the Philadelphia Alumnae Chapter\, in collaboration with 100 Black Men of Philadelphia\, Temple University’s Epsilon Delta Chapter of Delta Sigma Theta Sorority\, Inc.\, Good Health WINs and Greater Philadelphia Health Action\, Inc.\, highlights our partnership with the American Red Cross and will be hosted by radio personality Ms. Patty Jackson of WDAS 105.3 FM. \nPhysical and Mental Health Committee’s Annual Step Into Wellness event is open to the public– highlighting the American Red Cross blood drive\, men’s health screenings\, Covid-19 vaccinations\, line dancing\, Zumba\, mental health screening\, nutrition\, self care activities and MORE. \nClick below for the following: \nBlood Drive Registration      Finding Free Vaccines Near You     Vaccination Registration \nPlease view the flyer for more details! \n 
URL:https://phillyalumnae-dst.org/event/step-into-wellness-2024/
LOCATION:Temple University Aramark Student Training and Recreation (STAR) Complex\, 1816 N 15th Street\, Philadelphia\, PA\, 19121
CATEGORIES:Open to public,Physical and Mental Health
ATTACH;FMTTYPE=image/png:https://phillyalumnae-dst.org/wp-content/uploads/2024/04/Screenshot-2024-04-04-at-9.38.15 PM.png
ORGANIZER;CN="Physical and Mental Health":MAILTO:health@phillyalumnae-dst.org
END:VEVENT
END:VCALENDAR