BEGIN:VCALENDAR
VERSION:2.0
PRODID:-//Philadelphia Alumnae Chapter - ECPv6.15.20//NONSGML v1.0//EN
CALSCALE:GREGORIAN
METHOD:PUBLISH
X-ORIGINAL-URL:https://phillyalumnae-dst.org
X-WR-CALDESC:Events for Philadelphia Alumnae Chapter
REFRESH-INTERVAL;VALUE=DURATION:PT1H
X-Robots-Tag:noindex
X-PUBLISHED-TTL:PT1H
BEGIN:VTIMEZONE
TZID:America/New_York
BEGIN:DAYLIGHT
TZOFFSETFROM:-0500
TZOFFSETTO:-0400
TZNAME:EDT
DTSTART:20230312T070000
END:DAYLIGHT
BEGIN:STANDARD
TZOFFSETFROM:-0400
TZOFFSETTO:-0500
TZNAME:EST
DTSTART:20231105T060000
END:STANDARD
BEGIN:DAYLIGHT
TZOFFSETFROM:-0500
TZOFFSETTO:-0400
TZNAME:EDT
DTSTART:20240310T070000
END:DAYLIGHT
BEGIN:STANDARD
TZOFFSETFROM:-0400
TZOFFSETTO:-0500
TZNAME:EST
DTSTART:20241103T060000
END:STANDARD
BEGIN:DAYLIGHT
TZOFFSETFROM:-0500
TZOFFSETTO:-0400
TZNAME:EDT
DTSTART:20250309T070000
END:DAYLIGHT
BEGIN:STANDARD
TZOFFSETFROM:-0400
TZOFFSETTO:-0500
TZNAME:EST
DTSTART:20251102T060000
END:STANDARD
END:VTIMEZONE
BEGIN:VEVENT
DTSTART;VALUE=DATE:20240504
DTEND;VALUE=DATE:20240505
DTSTAMP:20260419T163850
CREATED:20240313T022846Z
LAST-MODIFIED:20240313T022846Z
UID:16675-1714780800-1714867199@phillyalumnae-dst.org
SUMMARY:Mother's Day Raffle Ticket Fundraiser Winner Announcement
DESCRIPTION:How does a pair of 4th row floor seats to the greatest Mother’s Day Gospel Celebration Concert in Philadelphia sound to you? \nEnter our raffle to win tickets to see the legendary Donnie McClurkin\, Ricky Dillard\, The Clark Sisters\, and Jason Nelson on Sunday\, May 12\, 2024. One entry into the raffle is $25 for a chance to win a pair of tickets valued at $250! \nClick HERE to purchase. \nWinners will be announced on Saturday\, May 4\, 2024.
URL:https://phillyalumnae-dst.org/event/mothers-day-raffle-ticket-fundraiser-winner-announcement/
LOCATION:PA
CATEGORIES:Fundraiser,Open to public
ATTACH;FMTTYPE=image/png:https://phillyalumnae-dst.org/wp-content/uploads/2024/03/Mothers-Day-Gospel-Celebration-Shakira-Smith.png
ORGANIZER;CN="Ways and Means Committee":MAILTO:fundraising@phillyalumnae-dst.org
END:VEVENT
BEGIN:VEVENT
DTSTART;TZID=America/New_York:20240511T120000
DTEND;TZID=America/New_York:20240511T180000
DTSTAMP:20260419T163850
CREATED:20240410T013531Z
LAST-MODIFIED:20240505T234835Z
UID:16743-1715428800-1715450400@phillyalumnae-dst.org
SUMMARY:Battle of the DJs- Day Party at the Mann
DESCRIPTION:Join the @phillydeltas and the @phillyalumninupes again for THE BEST Outdoor Day Party to kick off the summer! Saturday\, May 11\, 2024 from Noon to 6pm we are back at the Mann Center for BATTLE OF THE DJS featuring @jazzyjoeallen @killsing and @djtouchtone215! \nThis event seeks to raise awareness about Sickle Cell Disease. Proceeds from this event will go towards the Sickle Cell Disease Association of America\, Philadelphia/Delaware Valley Chapter and towards each organization’s community programming. Tickets are $50 each and ON SALE NOW! You do not want to miss this event! \nClick HERE to purchase your tickets now. This event will sell out quickly!\n#BattleOfTheDJs\n#SickleCellAwareness\n#PhillyDeltas\n#PhillyKappas
URL:https://phillyalumnae-dst.org/event/battle-of-the-djs-day-party-at-the-mann/
LOCATION:Mann Center for Performing Arts\, 5201 Parkside Avenue\, Philadelphia\, PA\, 19131
CATEGORIES:Fundraiser,Open to public
ATTACH;FMTTYPE=image/jpeg:https://phillyalumnae-dst.org/wp-content/uploads/2024/04/IMG_3438.jpg
ORGANIZER;CN="Ways and Means Committee":MAILTO:fundraising@phillyalumnae-dst.org
END:VEVENT
BEGIN:VEVENT
DTSTART;TZID=America/New_York:20240518T090000
DTEND;TZID=America/New_York:20240518T170000
DTSTAMP:20260419T163850
CREATED:20240512T191750Z
LAST-MODIFIED:20240515T230902Z
UID:16859-1716022800-1716051600@phillyalumnae-dst.org
SUMMARY:May Week 2024
DESCRIPTION:It’s time for May Week! We have a great calendar of events in store\, including our culminating event honoring our Sadie T. M. Alexander awardee\, Kenneth C. Frazier\, and 3 recipients of the Community Torch Bearer Awards!!! \nRegister here to join us for any and all events May 18-25\, 2024!
URL:https://phillyalumnae-dst.org/event/may-week-2024-sadie-t-m-alexander-awards-reception/
LOCATION:Pinn Memorial Baptist Church\, 2251 N. 54th Street\, Philadelphia\, PA\, 19131
CATEGORIES:May Week,Open to public
ATTACH;FMTTYPE=image/jpeg:https://phillyalumnae-dst.org/wp-content/uploads/2024/05/2024-MAY-WEEK-SCHEDULEb.jpeg
ORGANIZER;CN="May Week Committee":MAILTO:mayweek@phillyalumnae-dst.org
END:VEVENT
BEGIN:VEVENT
DTSTART;TZID=America/New_York:20240518T090000
DTEND;TZID=America/New_York:20240518T173000
DTSTAMP:20260419T163850
CREATED:20240503T004656Z
LAST-MODIFIED:20240503T030704Z
UID:16794-1716022800-1716053400@phillyalumnae-dst.org
SUMMARY:Mental Health First Aid Training
DESCRIPTION:Join the Philly Alumnae Chapter\, in collaboration with Senator Vincent Hughes and the Black Women’s Health Alliance as we join forces in combat addressing the Mental Health crisis within the City of Philadelphia. We are presenting a Mental Health First Aid 3-year Certification Program offered by the Department of Behavioral Health and Intellectual DisAbility Services.  \nPlease check the flyer for further details. Click HERE TO REGISTER for this event!\nFirst Come\, First Serve. Maximum 30 participants only.
URL:https://phillyalumnae-dst.org/event/mental-health-first-aid-training-2/
LOCATION:Supra Enterprise Center\, 4801 W. Jefferson Street\, Philadelphia\, PA\, 19131
CATEGORIES:Open to public,Physical and Mental Health
ATTACH;FMTTYPE=image/png:https://phillyalumnae-dst.org/wp-content/uploads/2024/05/Screenshot-2024-05-02-at-8.35.08 PM.png
ORGANIZER;CN="Physical and Mental Health":MAILTO:health@phillyalumnae-dst.org
END:VEVENT
BEGIN:VEVENT
DTSTART;TZID=America/New_York:20240519T100000
DTEND;TZID=America/New_York:20240519T190000
DTSTAMP:20260419T163850
CREATED:20240512T191750Z
LAST-MODIFIED:20240515T230902Z
UID:16863-1716112800-1716145200@phillyalumnae-dst.org
SUMMARY:May Week 2024
DESCRIPTION:It’s time for May Week! We have a great calendar of events in store\, including our culminating event honoring our Sadie T. M. Alexander awardee\, Kenneth C. Frazier\, and 3 recipients of the Community Torch Bearer Awards!!! \nRegister here to join us for any and all events May 18-25\, 2024!
URL:https://phillyalumnae-dst.org/event/may-week-2024-sadie-t-m-alexander-awards-reception-2024-05-19/
LOCATION:Pinn Memorial Baptist Church\, 2251 N. 54th Street\, Philadelphia\, PA\, 19131
CATEGORIES:May Week,Open to public
ATTACH;FMTTYPE=image/jpeg:https://phillyalumnae-dst.org/wp-content/uploads/2024/05/2024-MAY-WEEK-SCHEDULEb.jpeg
ORGANIZER;CN="May Week Committee":MAILTO:mayweek@phillyalumnae-dst.org
END:VEVENT
BEGIN:VEVENT
DTSTART;TZID=America/New_York:20240519T160000
DTEND;TZID=America/New_York:20240519T190000
DTSTAMP:20260419T163850
CREATED:20240218T231833Z
LAST-MODIFIED:20240218T232635Z
UID:16481-1716134400-1716145200@phillyalumnae-dst.org
SUMMARY:2024 Jabberwock Grande Finale
DESCRIPTION:Join us for an evening of elegance and grace as we celebrate the scholars of the Jabberwock Scholarship Program and crown Miss Jabberwock 2024. The event will occur on Sunday\, May 19\, 2024 @ 4:30 PM at Hilton Philadelphia City Avenue\, 4200 City Avenue\, Philadelphia\, PA 19131. Tickets are $75. See flyer for details and to purchase tickets\, click HERE! \nIf you would like to place an ad in the 2024 Jabberwock Souvenir Journal\, click HERE. This Order Form is for individuals who would like to purchase an ad for Scholar or in support of all scholars. Journal ad forms should be mailed to the address on the form with payment. All money donated will support the post-secondary education of a Jabberwock scholar. \n Ad forms are due by April 5\, 2024.
URL:https://phillyalumnae-dst.org/event/2024-jabberwock-finale/
LOCATION:Hilton City Line Avenue\, 4200 City Avenue\, Philadelphia\, PA\, 19131
CATEGORIES:Fundraiser,Jabberwock,Open to public
ATTACH;FMTTYPE=image/png:https://phillyalumnae-dst.org/wp-content/uploads/2024/02/Screenshot-2024-02-18-at-5.29.38 PM.png
ORGANIZER;CN="Jabberwock Committee":MAILTO:jabberwock@phillyalumnae-dst.org
END:VEVENT
BEGIN:VEVENT
DTSTART;TZID=America/New_York:20240520T170000
DTEND;TZID=America/New_York:20240520T190000
DTSTAMP:20260419T163850
CREATED:20240510T142441Z
LAST-MODIFIED:20240510T142441Z
UID:16852-1716224400-1716231600@phillyalumnae-dst.org
SUMMARY:Demystifying Health Insurance 101
DESCRIPTION:Join the Philadelphia Alumnae Chapter of Delta Sigma Theta Sorority\, Inc. for “Demystifying Health Insurance 101” on Monday\, May 20\, 2024 at Penrose Recreation Center\, 1101 W. Susquehanna Avenue\, Philadelphia\, PA 19122. \nDon’t miss this interactive workshop that makes Health Insurance easy to understand! Learn basic health insurance terms and things to consider when selecting a health plan. You’ll leave with a better understanding of health insurance benefits. \nPlease click here to register for this event!
URL:https://phillyalumnae-dst.org/event/demystifying-health-insurance-101-2/
LOCATION:Penrose Recreation Center\, 1101 W. Susquehanna Avenue\, Philadelphia\, PA\, 19122
CATEGORIES:Open to public,Physical and Mental Health
ATTACH;FMTTYPE=image/png:https://phillyalumnae-dst.org/wp-content/uploads/2024/05/2024-HEALTHCARE-101-Purple-flyer-2-scaled.png
ORGANIZER;CN="Healthcare Literacy Committee":MAILTO:healthcareliteracypac@gmail.com
END:VEVENT
BEGIN:VEVENT
DTSTART;TZID=America/New_York:20240520T170000
DTEND;TZID=America/New_York:20240520T190000
DTSTAMP:20260419T163850
CREATED:20240512T191750Z
LAST-MODIFIED:20240515T230903Z
UID:16864-1716224400-1716231600@phillyalumnae-dst.org
SUMMARY:May Week 2024
DESCRIPTION:It’s time for May Week! We have a great calendar of events in store\, including our culminating event honoring our Sadie T. M. Alexander awardee\, Kenneth C. Frazier\, and 3 recipients of the Community Torch Bearer Awards!!! \nRegister here to join us for any and all events May 18-25\, 2024!
URL:https://phillyalumnae-dst.org/event/may-week-2024-sadie-t-m-alexander-awards-reception-2024-05-20/
LOCATION:Pinn Memorial Baptist Church\, 2251 N. 54th Street\, Philadelphia\, PA\, 19131
CATEGORIES:May Week,Open to public
ATTACH;FMTTYPE=image/jpeg:https://phillyalumnae-dst.org/wp-content/uploads/2024/05/2024-MAY-WEEK-SCHEDULEb.jpeg
ORGANIZER;CN="May Week Committee":MAILTO:mayweek@phillyalumnae-dst.org
END:VEVENT
BEGIN:VEVENT
DTSTART;TZID=America/New_York:20240521T183000
DTEND;TZID=America/New_York:20240521T200000
DTSTAMP:20260419T163850
CREATED:20240512T191750Z
LAST-MODIFIED:20240515T230903Z
UID:16865-1716316200-1716321600@phillyalumnae-dst.org
SUMMARY:May Week 2024
DESCRIPTION:It’s time for May Week! We have a great calendar of events in store\, including our culminating event honoring our Sadie T. M. Alexander awardee\, Kenneth C. Frazier\, and 3 recipients of the Community Torch Bearer Awards!!! \nRegister here to join us for any and all events May 18-25\, 2024!
URL:https://phillyalumnae-dst.org/event/may-week-2024-sadie-t-m-alexander-awards-reception-2024-05-21/
LOCATION:Pinn Memorial Baptist Church\, 2251 N. 54th Street\, Philadelphia\, PA\, 19131
CATEGORIES:May Week,Open to public
ATTACH;FMTTYPE=image/jpeg:https://phillyalumnae-dst.org/wp-content/uploads/2024/05/2024-MAY-WEEK-SCHEDULEb.jpeg
ORGANIZER;CN="May Week Committee":MAILTO:mayweek@phillyalumnae-dst.org
END:VEVENT
BEGIN:VEVENT
DTSTART;TZID=America/New_York:20240521T183000
DTEND;TZID=America/New_York:20240521T200000
DTSTAMP:20260419T163850
CREATED:20240515T134300Z
LAST-MODIFIED:20240515T134300Z
UID:16896-1716316200-1716321600@phillyalumnae-dst.org
SUMMARY:"Level Up" Virtual Networking and Career Panel Discussion
DESCRIPTION:Join us virtually for Level Up\, presented by the Dolls and Divas Committee on Tuesday\, May 21\, 2024 from 6:30 – 8pm.  \nElevate your career with speed networking sessions and a dynamic panel discussion. Whether you’re a recent graduate or a seasoned professional\, “Level Up” offers valuable opportunities to connect\, learn\, and grow. \nClick HERE to register for this virtual event!
URL:https://phillyalumnae-dst.org/event/level-up-virtual-networking-and-career-panel-discussion/
LOCATION:Virtual\, PA\, United States
CATEGORIES:Dolls & Divas,May Week,Open to public
ATTACH;FMTTYPE=image/jpeg:https://phillyalumnae-dst.org/wp-content/uploads/2024/05/image000000.jpg
ORGANIZER;CN="Dolls and Divas Committee":MAILTO:dyddstphilly@gmail.com
END:VEVENT
BEGIN:VEVENT
DTSTART;TZID=America/New_York:20240522T090000
DTEND;TZID=America/New_York:20240522T110000
DTSTAMP:20260419T163850
CREATED:20240512T191750Z
LAST-MODIFIED:20240515T230903Z
UID:16866-1716368400-1716375600@phillyalumnae-dst.org
SUMMARY:May Week 2024
DESCRIPTION:It’s time for May Week! We have a great calendar of events in store\, including our culminating event honoring our Sadie T. M. Alexander awardee\, Kenneth C. Frazier\, and 3 recipients of the Community Torch Bearer Awards!!! \nRegister here to join us for any and all events May 18-25\, 2024!
URL:https://phillyalumnae-dst.org/event/may-week-2024-sadie-t-m-alexander-awards-reception-2024-05-22/
LOCATION:Pinn Memorial Baptist Church\, 2251 N. 54th Street\, Philadelphia\, PA\, 19131
CATEGORIES:May Week,Open to public
ATTACH;FMTTYPE=image/jpeg:https://phillyalumnae-dst.org/wp-content/uploads/2024/05/2024-MAY-WEEK-SCHEDULEb.jpeg
ORGANIZER;CN="May Week Committee":MAILTO:mayweek@phillyalumnae-dst.org
END:VEVENT
BEGIN:VEVENT
DTSTART;TZID=America/New_York:20240523T103000
DTEND;TZID=America/New_York:20240523T230000
DTSTAMP:20260419T163850
CREATED:20240512T191750Z
LAST-MODIFIED:20240515T230903Z
UID:16867-1716460200-1716505200@phillyalumnae-dst.org
SUMMARY:May Week 2024
DESCRIPTION:It’s time for May Week! We have a great calendar of events in store\, including our culminating event honoring our Sadie T. M. Alexander awardee\, Kenneth C. Frazier\, and 3 recipients of the Community Torch Bearer Awards!!! \nRegister here to join us for any and all events May 18-25\, 2024!
URL:https://phillyalumnae-dst.org/event/may-week-2024-sadie-t-m-alexander-awards-reception-2024-05-23/
LOCATION:Pinn Memorial Baptist Church\, 2251 N. 54th Street\, Philadelphia\, PA\, 19131
CATEGORIES:May Week,Open to public
ATTACH;FMTTYPE=image/jpeg:https://phillyalumnae-dst.org/wp-content/uploads/2024/05/2024-MAY-WEEK-SCHEDULEb.jpeg
ORGANIZER;CN="May Week Committee":MAILTO:mayweek@phillyalumnae-dst.org
END:VEVENT
BEGIN:VEVENT
DTSTART;TZID=America/New_York:20240523T110000
DTEND;TZID=America/New_York:20240523T230000
DTSTAMP:20260419T163850
CREATED:20240505T235752Z
LAST-MODIFIED:20240505T235907Z
UID:16813-1716462000-1716505200@phillyalumnae-dst.org
SUMMARY:May Dining With the Deltas Event
DESCRIPTION:Join the Philly Deltas for fellowship and fundraising at Anthony’s Coal Fired Pizza for our  \nMay Week Edition of Dine with the Deltas!  \nThis is the FINALE! Meet us for our final Dine with the Deltas of this sorority year on Thursday\, May 23\, 2024 during the extended hours of 11:00AM – 11:00PM (lunch\, happy hour\, dinner). The Philadelphia Alumnae Chapter will receive 20% of the revenue from your purchase to go towards our community programming and scholarships. Spread the word\, share this flyer\, and get ready to dine! #DineWithTheDeltas #DineWithThePhillyDeltas #MayWeek #Fundraising
URL:https://phillyalumnae-dst.org/event/may-dine-with-the-deltas/
LOCATION:Anthony’s Coal Fired Pizza\, 50 East Wynnewood Road\, Wynnewood\, PA\, 19096
CATEGORIES:Fundraiser,May Week,Open to public
ATTACH;FMTTYPE=image/png:https://phillyalumnae-dst.org/wp-content/uploads/2024/05/May-DWD-Anthonys-5.23.2024.png
ORGANIZER;CN="Ways and Means Committee":MAILTO:fundraising@phillyalumnae-dst.org
END:VEVENT
BEGIN:VEVENT
DTSTART;TZID=America/New_York:20240524T180000
DTEND;TZID=America/New_York:20240524T200000
DTSTAMP:20260419T163850
CREATED:20240512T191750Z
LAST-MODIFIED:20240515T230903Z
UID:16868-1716573600-1716580800@phillyalumnae-dst.org
SUMMARY:May Week 2024
DESCRIPTION:It’s time for May Week! We have a great calendar of events in store\, including our culminating event honoring our Sadie T. M. Alexander awardee\, Kenneth C. Frazier\, and 3 recipients of the Community Torch Bearer Awards!!! \nRegister here to join us for any and all events May 18-25\, 2024!
URL:https://phillyalumnae-dst.org/event/may-week-2024-sadie-t-m-alexander-awards-reception-2024-05-24/
LOCATION:Pinn Memorial Baptist Church\, 2251 N. 54th Street\, Philadelphia\, PA\, 19131
CATEGORIES:May Week,Open to public
ATTACH;FMTTYPE=image/jpeg:https://phillyalumnae-dst.org/wp-content/uploads/2024/05/2024-MAY-WEEK-SCHEDULEb.jpeg
ORGANIZER;CN="May Week Committee":MAILTO:mayweek@phillyalumnae-dst.org
END:VEVENT
BEGIN:VEVENT
DTSTART;TZID=America/New_York:20240525T113000
DTEND;TZID=America/New_York:20240525T143000
DTSTAMP:20260419T163850
CREATED:20240512T191750Z
LAST-MODIFIED:20240515T230903Z
UID:16869-1716636600-1716647400@phillyalumnae-dst.org
SUMMARY:May Week 2024
DESCRIPTION:It’s time for May Week! We have a great calendar of events in store\, including our culminating event honoring our Sadie T. M. Alexander awardee\, Kenneth C. Frazier\, and 3 recipients of the Community Torch Bearer Awards!!! \nRegister here to join us for any and all events May 18-25\, 2024!
URL:https://phillyalumnae-dst.org/event/may-week-2024-sadie-t-m-alexander-awards-reception-2024-05-25/
LOCATION:Pinn Memorial Baptist Church\, 2251 N. 54th Street\, Philadelphia\, PA\, 19131
CATEGORIES:May Week,Open to public
ATTACH;FMTTYPE=image/jpeg:https://phillyalumnae-dst.org/wp-content/uploads/2024/05/2024-MAY-WEEK-SCHEDULEb.jpeg
ORGANIZER;CN="May Week Committee":MAILTO:mayweek@phillyalumnae-dst.org
END:VEVENT
BEGIN:VEVENT
DTSTART;TZID=America/New_York:20240525T113000
DTEND;TZID=America/New_York:20240525T143000
DTSTAMP:20260419T163850
CREATED:20240513T154406Z
LAST-MODIFIED:20240513T154406Z
UID:16883-1716636600-1716647400@phillyalumnae-dst.org
SUMMARY:2024 Sadie T. M. Alexander Awards Reception
DESCRIPTION:Join the Philadelphia Alumnae Chapter in honoring our Sadie T. M. Alexander awardee Kenneth C. Frazier and 3 recipients of the Torch Bearer Awards!!! \nThe 2024 Sadie T. M. Alexander Awards Reception will occur on Saturday\, May 25th at 11:30 AM at \nPinn Memorial Baptist Church\, which is located at 2251 N. 54th Street\, Philadelphia\, PA 19131. \nClick HERE to register for this event!
URL:https://phillyalumnae-dst.org/event/2024-sadie-t-m-alexander-awards-reception/
LOCATION:Pinn Memorial Baptist Church\, 2251 N. 54th Street\, Philadelphia\, PA\, 19131
CATEGORIES:May Week,Open to public
ATTACH;FMTTYPE=image/jpeg:https://phillyalumnae-dst.org/wp-content/uploads/2024/05/IMG_5434.jpg
ORGANIZER;CN="May Week Committee":MAILTO:mayweek@phillyalumnae-dst.org
END:VEVENT
END:VCALENDAR