BEGIN:VCALENDAR
VERSION:2.0
PRODID:-//Philadelphia Alumnae Chapter - ECPv6.15.20//NONSGML v1.0//EN
CALSCALE:GREGORIAN
METHOD:PUBLISH
X-WR-CALNAME:Philadelphia Alumnae Chapter
X-ORIGINAL-URL:https://phillyalumnae-dst.org
X-WR-CALDESC:Events for Philadelphia Alumnae Chapter
REFRESH-INTERVAL;VALUE=DURATION:PT1H
X-Robots-Tag:noindex
X-PUBLISHED-TTL:PT1H
BEGIN:VTIMEZONE
TZID:America/New_York
BEGIN:DAYLIGHT
TZOFFSETFROM:-0500
TZOFFSETTO:-0400
TZNAME:EDT
DTSTART:20230312T070000
END:DAYLIGHT
BEGIN:STANDARD
TZOFFSETFROM:-0400
TZOFFSETTO:-0500
TZNAME:EST
DTSTART:20231105T060000
END:STANDARD
BEGIN:DAYLIGHT
TZOFFSETFROM:-0500
TZOFFSETTO:-0400
TZNAME:EDT
DTSTART:20240310T070000
END:DAYLIGHT
BEGIN:STANDARD
TZOFFSETFROM:-0400
TZOFFSETTO:-0500
TZNAME:EST
DTSTART:20241103T060000
END:STANDARD
BEGIN:DAYLIGHT
TZOFFSETFROM:-0500
TZOFFSETTO:-0400
TZNAME:EDT
DTSTART:20250309T070000
END:DAYLIGHT
BEGIN:STANDARD
TZOFFSETFROM:-0400
TZOFFSETTO:-0500
TZNAME:EST
DTSTART:20251102T060000
END:STANDARD
END:VTIMEZONE
BEGIN:VEVENT
DTSTART;TZID=America/New_York:20240518T090000
DTEND;TZID=America/New_York:20240518T170000
DTSTAMP:20260419T182438
CREATED:20240512T191750Z
LAST-MODIFIED:20240515T230902Z
UID:16859-1716022800-1716051600@phillyalumnae-dst.org
SUMMARY:May Week 2024
DESCRIPTION:It’s time for May Week! We have a great calendar of events in store\, including our culminating event honoring our Sadie T. M. Alexander awardee\, Kenneth C. Frazier\, and 3 recipients of the Community Torch Bearer Awards!!! \nRegister here to join us for any and all events May 18-25\, 2024!
URL:https://phillyalumnae-dst.org/event/may-week-2024-sadie-t-m-alexander-awards-reception/
LOCATION:Pinn Memorial Baptist Church\, 2251 N. 54th Street\, Philadelphia\, PA\, 19131
CATEGORIES:May Week,Open to public
ATTACH;FMTTYPE=image/jpeg:https://phillyalumnae-dst.org/wp-content/uploads/2024/05/2024-MAY-WEEK-SCHEDULEb.jpeg
ORGANIZER;CN="May Week Committee":MAILTO:mayweek@phillyalumnae-dst.org
END:VEVENT
BEGIN:VEVENT
DTSTART;TZID=America/New_York:20240518T090000
DTEND;TZID=America/New_York:20240518T173000
DTSTAMP:20260419T182438
CREATED:20240503T004656Z
LAST-MODIFIED:20240503T030704Z
UID:16794-1716022800-1716053400@phillyalumnae-dst.org
SUMMARY:Mental Health First Aid Training
DESCRIPTION:Join the Philly Alumnae Chapter\, in collaboration with Senator Vincent Hughes and the Black Women’s Health Alliance as we join forces in combat addressing the Mental Health crisis within the City of Philadelphia. We are presenting a Mental Health First Aid 3-year Certification Program offered by the Department of Behavioral Health and Intellectual DisAbility Services.  \nPlease check the flyer for further details. Click HERE TO REGISTER for this event!\nFirst Come\, First Serve. Maximum 30 participants only.
URL:https://phillyalumnae-dst.org/event/mental-health-first-aid-training-2/
LOCATION:Supra Enterprise Center\, 4801 W. Jefferson Street\, Philadelphia\, PA\, 19131
CATEGORIES:Open to public,Physical and Mental Health
ATTACH;FMTTYPE=image/png:https://phillyalumnae-dst.org/wp-content/uploads/2024/05/Screenshot-2024-05-02-at-8.35.08 PM.png
ORGANIZER;CN="Physical and Mental Health":MAILTO:health@phillyalumnae-dst.org
END:VEVENT
END:VCALENDAR