BEGIN:VCALENDAR
VERSION:2.0
PRODID:-//Philadelphia Alumnae Chapter - ECPv6.15.20//NONSGML v1.0//EN
CALSCALE:GREGORIAN
METHOD:PUBLISH
X-ORIGINAL-URL:https://phillyalumnae-dst.org
X-WR-CALDESC:Events for Philadelphia Alumnae Chapter
REFRESH-INTERVAL;VALUE=DURATION:PT1H
X-Robots-Tag:noindex
X-PUBLISHED-TTL:PT1H
BEGIN:VTIMEZONE
TZID:America/New_York
BEGIN:DAYLIGHT
TZOFFSETFROM:-0500
TZOFFSETTO:-0400
TZNAME:EDT
DTSTART:20230312T070000
END:DAYLIGHT
BEGIN:STANDARD
TZOFFSETFROM:-0400
TZOFFSETTO:-0500
TZNAME:EST
DTSTART:20231105T060000
END:STANDARD
BEGIN:DAYLIGHT
TZOFFSETFROM:-0500
TZOFFSETTO:-0400
TZNAME:EDT
DTSTART:20240310T070000
END:DAYLIGHT
BEGIN:STANDARD
TZOFFSETFROM:-0400
TZOFFSETTO:-0500
TZNAME:EST
DTSTART:20241103T060000
END:STANDARD
BEGIN:DAYLIGHT
TZOFFSETFROM:-0500
TZOFFSETTO:-0400
TZNAME:EDT
DTSTART:20250309T070000
END:DAYLIGHT
BEGIN:STANDARD
TZOFFSETFROM:-0400
TZOFFSETTO:-0500
TZNAME:EST
DTSTART:20251102T060000
END:STANDARD
END:VTIMEZONE
BEGIN:VEVENT
DTSTART;TZID=America/New_York:20240520T170000
DTEND;TZID=America/New_York:20240520T190000
DTSTAMP:20260419T180619
CREATED:20240510T142441Z
LAST-MODIFIED:20240510T142441Z
UID:16852-1716224400-1716231600@phillyalumnae-dst.org
SUMMARY:Demystifying Health Insurance 101
DESCRIPTION:Join the Philadelphia Alumnae Chapter of Delta Sigma Theta Sorority\, Inc. for “Demystifying Health Insurance 101” on Monday\, May 20\, 2024 at Penrose Recreation Center\, 1101 W. Susquehanna Avenue\, Philadelphia\, PA 19122. \nDon’t miss this interactive workshop that makes Health Insurance easy to understand! Learn basic health insurance terms and things to consider when selecting a health plan. You’ll leave with a better understanding of health insurance benefits. \nPlease click here to register for this event!
URL:https://phillyalumnae-dst.org/event/demystifying-health-insurance-101-2/
LOCATION:Penrose Recreation Center\, 1101 W. Susquehanna Avenue\, Philadelphia\, PA\, 19122
CATEGORIES:Open to public,Physical and Mental Health
ATTACH;FMTTYPE=image/png:https://phillyalumnae-dst.org/wp-content/uploads/2024/05/2024-HEALTHCARE-101-Purple-flyer-2-scaled.png
ORGANIZER;CN="Healthcare Literacy Committee":MAILTO:healthcareliteracypac@gmail.com
END:VEVENT
BEGIN:VEVENT
DTSTART;TZID=America/New_York:20240520T170000
DTEND;TZID=America/New_York:20240520T190000
DTSTAMP:20260419T180619
CREATED:20240512T191750Z
LAST-MODIFIED:20240515T230903Z
UID:16864-1716224400-1716231600@phillyalumnae-dst.org
SUMMARY:May Week 2024
DESCRIPTION:It’s time for May Week! We have a great calendar of events in store\, including our culminating event honoring our Sadie T. M. Alexander awardee\, Kenneth C. Frazier\, and 3 recipients of the Community Torch Bearer Awards!!! \nRegister here to join us for any and all events May 18-25\, 2024!
URL:https://phillyalumnae-dst.org/event/may-week-2024-sadie-t-m-alexander-awards-reception-2024-05-20/
LOCATION:Pinn Memorial Baptist Church\, 2251 N. 54th Street\, Philadelphia\, PA\, 19131
CATEGORIES:May Week,Open to public
ATTACH;FMTTYPE=image/jpeg:https://phillyalumnae-dst.org/wp-content/uploads/2024/05/2024-MAY-WEEK-SCHEDULEb.jpeg
ORGANIZER;CN="May Week Committee":MAILTO:mayweek@phillyalumnae-dst.org
END:VEVENT
END:VCALENDAR