BEGIN:VCALENDAR
VERSION:2.0
PRODID:-//Philadelphia Alumnae Chapter - ECPv6.15.20//NONSGML v1.0//EN
CALSCALE:GREGORIAN
METHOD:PUBLISH
X-ORIGINAL-URL:https://phillyalumnae-dst.org
X-WR-CALDESC:Events for Philadelphia Alumnae Chapter
REFRESH-INTERVAL;VALUE=DURATION:PT1H
X-Robots-Tag:noindex
X-PUBLISHED-TTL:PT1H
BEGIN:VTIMEZONE
TZID:America/New_York
BEGIN:DAYLIGHT
TZOFFSETFROM:-0500
TZOFFSETTO:-0400
TZNAME:EDT
DTSTART:20230312T070000
END:DAYLIGHT
BEGIN:STANDARD
TZOFFSETFROM:-0400
TZOFFSETTO:-0500
TZNAME:EST
DTSTART:20231105T060000
END:STANDARD
BEGIN:DAYLIGHT
TZOFFSETFROM:-0500
TZOFFSETTO:-0400
TZNAME:EDT
DTSTART:20240310T070000
END:DAYLIGHT
BEGIN:STANDARD
TZOFFSETFROM:-0400
TZOFFSETTO:-0500
TZNAME:EST
DTSTART:20241103T060000
END:STANDARD
BEGIN:DAYLIGHT
TZOFFSETFROM:-0500
TZOFFSETTO:-0400
TZNAME:EDT
DTSTART:20250309T070000
END:DAYLIGHT
BEGIN:STANDARD
TZOFFSETFROM:-0400
TZOFFSETTO:-0500
TZNAME:EST
DTSTART:20251102T060000
END:STANDARD
END:VTIMEZONE
BEGIN:VEVENT
DTSTART;TZID=America/New_York:20240523T103000
DTEND;TZID=America/New_York:20240523T230000
DTSTAMP:20260419T182418
CREATED:20240512T191750Z
LAST-MODIFIED:20240515T230903Z
UID:16867-1716460200-1716505200@phillyalumnae-dst.org
SUMMARY:May Week 2024
DESCRIPTION:It’s time for May Week! We have a great calendar of events in store\, including our culminating event honoring our Sadie T. M. Alexander awardee\, Kenneth C. Frazier\, and 3 recipients of the Community Torch Bearer Awards!!! \nRegister here to join us for any and all events May 18-25\, 2024!
URL:https://phillyalumnae-dst.org/event/may-week-2024-sadie-t-m-alexander-awards-reception-2024-05-23/
LOCATION:Pinn Memorial Baptist Church\, 2251 N. 54th Street\, Philadelphia\, PA\, 19131
CATEGORIES:May Week,Open to public
ATTACH;FMTTYPE=image/jpeg:https://phillyalumnae-dst.org/wp-content/uploads/2024/05/2024-MAY-WEEK-SCHEDULEb.jpeg
ORGANIZER;CN="May Week Committee":MAILTO:mayweek@phillyalumnae-dst.org
END:VEVENT
BEGIN:VEVENT
DTSTART;TZID=America/New_York:20240523T110000
DTEND;TZID=America/New_York:20240523T230000
DTSTAMP:20260419T182418
CREATED:20240505T235752Z
LAST-MODIFIED:20240505T235907Z
UID:16813-1716462000-1716505200@phillyalumnae-dst.org
SUMMARY:May Dining With the Deltas Event
DESCRIPTION:Join the Philly Deltas for fellowship and fundraising at Anthony’s Coal Fired Pizza for our  \nMay Week Edition of Dine with the Deltas!  \nThis is the FINALE! Meet us for our final Dine with the Deltas of this sorority year on Thursday\, May 23\, 2024 during the extended hours of 11:00AM – 11:00PM (lunch\, happy hour\, dinner). The Philadelphia Alumnae Chapter will receive 20% of the revenue from your purchase to go towards our community programming and scholarships. Spread the word\, share this flyer\, and get ready to dine! #DineWithTheDeltas #DineWithThePhillyDeltas #MayWeek #Fundraising
URL:https://phillyalumnae-dst.org/event/may-dine-with-the-deltas/
LOCATION:Anthony’s Coal Fired Pizza\, 50 East Wynnewood Road\, Wynnewood\, PA\, 19096
CATEGORIES:Fundraiser,May Week,Open to public
ATTACH;FMTTYPE=image/png:https://phillyalumnae-dst.org/wp-content/uploads/2024/05/May-DWD-Anthonys-5.23.2024.png
ORGANIZER;CN="Ways and Means Committee":MAILTO:fundraising@phillyalumnae-dst.org
END:VEVENT
END:VCALENDAR