BEGIN:VCALENDAR
VERSION:2.0
PRODID:-//Philadelphia Alumnae Chapter - ECPv6.15.20//NONSGML v1.0//EN
CALSCALE:GREGORIAN
METHOD:PUBLISH
X-WR-CALNAME:Philadelphia Alumnae Chapter
X-ORIGINAL-URL:https://phillyalumnae-dst.org
X-WR-CALDESC:Events for Philadelphia Alumnae Chapter
REFRESH-INTERVAL;VALUE=DURATION:PT1H
X-Robots-Tag:noindex
X-PUBLISHED-TTL:PT1H
BEGIN:VTIMEZONE
TZID:America/New_York
BEGIN:DAYLIGHT
TZOFFSETFROM:-0500
TZOFFSETTO:-0400
TZNAME:EDT
DTSTART:20220313T070000
END:DAYLIGHT
BEGIN:STANDARD
TZOFFSETFROM:-0400
TZOFFSETTO:-0500
TZNAME:EST
DTSTART:20221106T060000
END:STANDARD
BEGIN:DAYLIGHT
TZOFFSETFROM:-0500
TZOFFSETTO:-0400
TZNAME:EDT
DTSTART:20230312T070000
END:DAYLIGHT
BEGIN:STANDARD
TZOFFSETFROM:-0400
TZOFFSETTO:-0500
TZNAME:EST
DTSTART:20231105T060000
END:STANDARD
BEGIN:DAYLIGHT
TZOFFSETFROM:-0500
TZOFFSETTO:-0400
TZNAME:EDT
DTSTART:20240310T070000
END:DAYLIGHT
BEGIN:STANDARD
TZOFFSETFROM:-0400
TZOFFSETTO:-0500
TZNAME:EST
DTSTART:20241103T060000
END:STANDARD
END:VTIMEZONE
BEGIN:VEVENT
DTSTART;TZID=America/New_York:20231202T080000
DTEND;TZID=America/New_York:20231202T170000
DTSTAMP:20260423T130335
CREATED:20231026T193054Z
LAST-MODIFIED:20231028T024706Z
UID:16022-1701504000-1701536400@phillyalumnae-dst.org
SUMMARY:Jabberwock 2024 T-Shirt Fundraiser
DESCRIPTION:The Jabberwock Committee is selling Jabberwock T-shirts in red or white in support of Jabberwock activities. All sizes are adult and can be purchased throughout the year. Sizes: Small – X-Large are $25 and sizes 2X-Large and 3X-Large are $30. Click HERE to purchase! \nPurchases made by November 21st can be picked up at the December Chapter Meeting! You will be contacted when your order is available for pickup and/or distribution.
URL:https://phillyalumnae-dst.org/event/jabberwock-2024-t-shirt-fundraiser/
LOCATION:Gratz College\, 7605 Old York Rd\, Elkins Park\, PA\, 19027\, United States
CATEGORIES:Fundraiser,Jabberwock
ATTACH;FMTTYPE=image/png:https://phillyalumnae-dst.org/wp-content/uploads/2023/10/Screenshot-2023-10-26-at-3.19.14-PM.png
ORGANIZER;CN="Jabberwock Committee":MAILTO:jabberwock@phillyalumnae-dst.org
END:VEVENT
BEGIN:VEVENT
DTSTART;TZID=America/New_York:20231202T130000
DTEND;TZID=America/New_York:20231202T150000
DTSTAMP:20260423T130335
CREATED:20231103T011305Z
LAST-MODIFIED:20231103T012712Z
UID:16090-1701522000-1701529200@phillyalumnae-dst.org
SUMMARY:World AIDS Day 2023
DESCRIPTION:Please help the @PhillyDeltas support @Philly.Bebashi and @ActionWellnessPhl by contributing toiletries in observance of World AIDS Day. On December 9th at @NewJoyMBC\, there will be free HIV testing. And you can get your COVID-19\, Influenza and Respiratory Syncytial Virus (RSV – must be 60+) vaccines. Please see the flyer for locations\, collection dates and times. \n#AIDSAwareness #ThreeForMeCampaign #PhillyDeltas \n 
URL:https://phillyalumnae-dst.org/event/world-aids-day-2024/
LOCATION:New Joy Missionary Baptist Church\, 2314 W. Allegheny Avenue\, Philadelphia\, PA\, 19132\, United States
CATEGORIES:International Awareness and Involvement,Open to public
ATTACH;FMTTYPE=image/png:https://phillyalumnae-dst.org/wp-content/uploads/2023/11/IMG_1986-scaled.png
ORGANIZER;CN="International Awareness and Involvement Committee":MAILTO:international@phillyalumnae-dst.org
END:VEVENT
BEGIN:VEVENT
DTSTART;TZID=America/New_York:20231207T110000
DTEND;TZID=America/New_York:20231207T220000
DTSTAMP:20260423T130335
CREATED:20231205T175039Z
LAST-MODIFIED:20231205T175039Z
UID:16177-1701946800-1701986400@phillyalumnae-dst.org
SUMMARY:December Dine With the Deltas
DESCRIPTION:It’s the giving season\, so let’s all make time for some extra fellowship while giving back towards our community programming and scholarship fundraising efforts! \n#DineWithThePhillyDeltas is back for December at Iron Hill Brewery (8400 Germantown Ave\, Philadelphia PA 19118) every Thursday from 11:00am-10:00pm! Calling all Sorors\, Divine 9 Members\, Family\, Old Friends\, and New Friends to #DineWithTheDeltas for lunch and/or dinner every Thursday this month! Order in person or call ahead for take out. PRINT and submit the flyer upon checkout for 20% of your sales to be donated back to the Philadelphia Alumnae Chapter of Delta Sigma Theta Sorority. \nThird Party Apps are not included for this fundraiser. \n#DineWithTheDeltas #DineandDonate #PhillyDeltas #IronHillBrewery #Fundraising #Fellowship
URL:https://phillyalumnae-dst.org/event/december-dine-with-the-deltas/
LOCATION:Iron Hill Brewery\, 8400 Germantown Avenue\, Philadelphia\, PA\, 19118\, United States
CATEGORIES:Fundraiser,Open to public
ATTACH;FMTTYPE=image/png:https://phillyalumnae-dst.org/wp-content/uploads/2023/12/Screenshot-2023-12-05-at-12.46.06 PM.png
ORGANIZER;CN="Ways and Means Committee":MAILTO:fundraising@phillyalumnae-dst.org
END:VEVENT
BEGIN:VEVENT
DTSTART;TZID=America/New_York:20231209T110000
DTEND;TZID=America/New_York:20231209T140000
DTSTAMP:20260423T130335
CREATED:20231029T145102Z
LAST-MODIFIED:20231031T164835Z
UID:16045-1702119600-1702130400@phillyalumnae-dst.org
SUMMARY:Good Health Wins Three-for-Me Vaccination Campaign
DESCRIPTION:Join the @PhillyDeltas in supporting the National Council of Negro Women’s Good Health Wins Three-for-Me Vaccination Campaign\, and protect yourself against 3 major respiratory viruses this fall and winter. \nOn Saturday\, December 9th from 11AM-2PM\, come and get your COVID-19\, Influenza (Flu)\, and Respiratory Syncytial Virus (RSV – must be 60+) vaccines that will be administered through Greater Philadelphia Health Action\, Inc. The location for appointments will be New Joy Missionary Baptist Church\, 2314 Allegheny Avenue\, Philadelphia\, PA 19132. View the flyer for more details! \nRegister to get your vaccine by clicking here! \n#PhillyDeltasAreAllInWithGoodHealthWINs #BetterTogether
URL:https://phillyalumnae-dst.org/event/16045/
LOCATION:New Joy Missionary Baptist Church\, 2314 W. Allegheny Avenue\, Philadelphia\, PA\, 19132\, United States
CATEGORIES:Open to public,Physical and Mental Health
ATTACH;FMTTYPE=image/png:https://phillyalumnae-dst.org/wp-content/uploads/2023/10/Copy-of-2023-PAC-3-for-me-Flyer-Cheryl-Boddy-Oakman.png
ORGANIZER;CN="Charitable Partners":MAILTO:charitable.partners@phillyalumnae-dst.org
END:VEVENT
BEGIN:VEVENT
DTSTART;TZID=America/New_York:20231214T110000
DTEND;TZID=America/New_York:20231214T140000
DTSTAMP:20260423T130335
CREATED:20231202T043204Z
LAST-MODIFIED:20231202T043204Z
UID:16157-1702551600-1702562400@phillyalumnae-dst.org
SUMMARY:Delta DEARS Winter Luncheon
DESCRIPTION:For PAC Delta DEARS only! Click here to register: https://form.jotform.com/233198561917163
URL:https://phillyalumnae-dst.org/event/delta-dears-winter-luncheon/
LOCATION:1424 E. Washington Lane\, 1424 E. Washington Lane\, Philadelphia\, PA\, 19138
CATEGORIES:For Delta DEARS
ATTACH;FMTTYPE=image/png:https://phillyalumnae-dst.org/wp-content/uploads/2023/12/Screenshot-2023-12-01-at-11.22.10-PM.png
ORGANIZER;CN="Delta Dears Committee":MAILTO:pacdeltadears@gmail.com
END:VEVENT
BEGIN:VEVENT
DTSTART;TZID=America/New_York:20231228T173000
DTEND;TZID=America/New_York:20231228T203000
DTSTAMP:20260423T130335
CREATED:20231227T014322Z
LAST-MODIFIED:20231227T014322Z
UID:16256-1703784600-1703795400@phillyalumnae-dst.org
SUMMARY:Period Equity Donations
DESCRIPTION:Be the voice in addressing period inequity\, also known as period poverty\, and bring a donation of menstrual period products to one of the collection sites on the flier\, or contact Social Action via email or text (see flier) to make an alternative arrangement for donating.
URL:https://phillyalumnae-dst.org/event/period-equity-donations/
LOCATION:PA
ATTACH;FMTTYPE=image/png:https://phillyalumnae-dst.org/wp-content/uploads/2023/12/Screenshot-2023-12-26-at-8.23.33-PM.png
END:VEVENT
BEGIN:VEVENT
DTSTART;TZID=America/New_York:20231229T100000
DTEND;TZID=America/New_York:20231229T130000
DTSTAMP:20260423T130335
CREATED:20231103T012047Z
LAST-MODIFIED:20231227T193918Z
UID:16095-1703844000-1703854800@phillyalumnae-dst.org
SUMMARY:International Awareness Shoe Collection Drive
DESCRIPTION:The @PhillyDeltas are collecting shoes – all sizes\, all kinds! We will accept new and gently worn high heels\, flats\, sneakers\, slippers\, sandals\, boots\, flip-flops\, etc. This fundraiser will support the sustainability initiatives of the International Awareness and Involvement Committee in Haiti and Kenya. \nMembers of the public may bring their donations to the December #DineWithTheDeltas events and additional locations listed on the flyer. \nPlease see the flyer for more information.
URL:https://phillyalumnae-dst.org/event/international-awareness-shoe-collection-drive/
LOCATION:Gratz College\, 7605 Old York Rd\, Elkins Park\, PA\, 19027\, United States
CATEGORIES:International Awareness and Involvement,Open to public
ATTACH;FMTTYPE=image/png:https://phillyalumnae-dst.org/wp-content/uploads/2023/12/Screenshot-2023-12-26-at-8.17.32-PM.png
END:VEVENT
END:VCALENDAR