BEGIN:VCALENDAR
VERSION:2.0
PRODID:-//Philadelphia Alumnae Chapter - ECPv6.15.20//NONSGML v1.0//EN
CALSCALE:GREGORIAN
METHOD:PUBLISH
X-ORIGINAL-URL:https://phillyalumnae-dst.org
X-WR-CALDESC:Events for Philadelphia Alumnae Chapter
REFRESH-INTERVAL;VALUE=DURATION:PT1H
X-Robots-Tag:noindex
X-PUBLISHED-TTL:PT1H
BEGIN:VTIMEZONE
TZID:America/New_York
BEGIN:DAYLIGHT
TZOFFSETFROM:-0500
TZOFFSETTO:-0400
TZNAME:EDT
DTSTART:20230312T070000
END:DAYLIGHT
BEGIN:STANDARD
TZOFFSETFROM:-0400
TZOFFSETTO:-0500
TZNAME:EST
DTSTART:20231105T060000
END:STANDARD
BEGIN:DAYLIGHT
TZOFFSETFROM:-0500
TZOFFSETTO:-0400
TZNAME:EDT
DTSTART:20240310T070000
END:DAYLIGHT
BEGIN:STANDARD
TZOFFSETFROM:-0400
TZOFFSETTO:-0500
TZNAME:EST
DTSTART:20241103T060000
END:STANDARD
BEGIN:DAYLIGHT
TZOFFSETFROM:-0500
TZOFFSETTO:-0400
TZNAME:EDT
DTSTART:20250309T070000
END:DAYLIGHT
BEGIN:STANDARD
TZOFFSETFROM:-0400
TZOFFSETTO:-0500
TZNAME:EST
DTSTART:20251102T060000
END:STANDARD
END:VTIMEZONE
BEGIN:VEVENT
DTSTART;TZID=America/New_York:20240210T160000
DTEND;TZID=America/New_York:20240210T220000
DTSTAMP:20260423T051232
CREATED:20240106T122734Z
LAST-MODIFIED:20240106T122734Z
UID:16316-1707580800-1707602400@phillyalumnae-dst.org
SUMMARY:2nd Annual Super Bowling Party
DESCRIPTION:Join the @phillydeltas for our 2nd Annual SUPER BOWLING Party on Saturday\, February 10\, 2024! This year will be more super than last with options to bowl from 4-6:30pm\, 7-10pm\, or all day from 4-10pm! This event falls on the Saturday before the Super Bowl\, so we encourage all guests to rep your favorite football team (whether they’re in the big game or not!). \nTickets are available for purchase by clicking HERE . Late Afternoon ticket prices are $50/person (lane of 5 is $250) to bowl and party from 4-6:30pm. Evening tickets prices are $55/person (lane of 5 is $275) to bowl and party from 7-10pm. All Day Passes are $95/person (lane of 5 is $475) to bowl and party from 4-10pm. All ticket prices are subject to additional PayPal fees. \nThis is a BYO food and drink event. Light refreshments and water provided. \nProceeds from all events go towards the Philadelphia Alumnae Chapter’s community programming and scholarships.\n#PACSuperBOWLINGparty\n#BowlWithThePhillyDeltas\n#DST1913
URL:https://phillyalumnae-dst.org/event/2nd-annual-super-bowling-party/
LOCATION:V&S Elmwood Lanes\, 7235 Elmwood Avenue\, Philadelphia\, PA\, 19142
CATEGORIES:Fundraiser,Open to public
ATTACH;FMTTYPE=image/png:https://phillyalumnae-dst.org/wp-content/uploads/2023/12/Screenshot-2023-12-20-at-3.08.58 PM.png
ORGANIZER;CN="Ways and Means Committee":MAILTO:fundraising@phillyalumnae-dst.org
END:VEVENT
BEGIN:VEVENT
DTSTART;VALUE=DATE:20240216
DTEND;VALUE=DATE:20240217
DTSTAMP:20260423T051232
CREATED:20240116T031908Z
LAST-MODIFIED:20240116T032718Z
UID:16363-1708041600-1708127999@phillyalumnae-dst.org
SUMMARY:2024 Philadelphia Alumnae Scholarship Application Deadline
DESCRIPTION:Are you High School Senior who attends a Philadelphia County school?  Are you thinking about attending college next year?  Are you looking for assistance to pay for it?  Apply for the 2024 Philadelphia Alumnae Chapter Scholarship. \n The deadline is February 16th\, 2024.  Click HERE to submit an application \nView the flyer for more information! \n Questions? Contact scholarship@phillyalumnae-dst.org
URL:https://phillyalumnae-dst.org/event/philadelphia-alumnae-scholarship-application-deadline/
LOCATION:PA
CATEGORIES:Open to public,Scholarship
ATTACH;FMTTYPE=image/png:https://phillyalumnae-dst.org/wp-content/uploads/2024/01/Screenshot-2024-01-15-at-10.21.10 PM.png
ORGANIZER;CN="Scholarship Committee":MAILTO:scholarship@phillyalumnae-dst.org
END:VEVENT
BEGIN:VEVENT
DTSTART;TZID=America/New_York:20240222T113000
DTEND;TZID=America/New_York:20240223T113000
DTSTAMP:20260423T051232
CREATED:20240213T191626Z
LAST-MODIFIED:20240213T191626Z
UID:16434-1708601400-1708687800@phillyalumnae-dst.org
SUMMARY:February Dine With the Deltas
DESCRIPTION:It’s that time again! Join the Philly Deltas for fellowship and fundraising at UNO Pizzeria & Grill for our February Dine with the Deltas! Meet us there ALL DAY on Thursday\, February 22\, 2024 during the hours of 11:30AM – Midnight for brunch\, lunch\, happy hour\, and dinner! UNO’s is located at 1009 Ridge Pike\, Conshohocken\, PA 19428. The Philadelphia Alumnae Chapter will receive 20% of the revenue from your purchase to go towards our community programming and scholarships. This includes dine in and take out. Orders by 3rd party apps are not included with this fundraiser. \nCalling all Sorors\, Divine 9 Greeks\, family\, friends\, and community members to spread the word\, share the flyer\, and get ready to dine!  \n#DineWithTheDeltas #DineWithThePhillyDeltas #DST111 #DST1913
URL:https://phillyalumnae-dst.org/event/february-dine-with-the-deltas/
LOCATION:Uno Pizzeria & Grill\, 1009 Ridge Pike\, Conshohocken\, PA\, 19428
CATEGORIES:Fundraiser,Open to public
ATTACH;FMTTYPE=image/png:https://phillyalumnae-dst.org/wp-content/uploads/2024/02/Screenshot-2024-02-13-at-2.08.08 PM.png
END:VEVENT
BEGIN:VEVENT
DTSTART;TZID=America/New_York:20240224T180000
DTEND;TZID=America/New_York:20240224T210000
DTSTAMP:20260423T051232
CREATED:20240215T172259Z
LAST-MODIFIED:20240215T172259Z
UID:16465-1708797600-1708808400@phillyalumnae-dst.org
SUMMARY:Show the Love Virtual Dance Party
DESCRIPTION:On Saturday\, February 24\, 2024\, the Deltas of the Dynamic & Historic @easternregdst are excited to host the Show the Love Virtual Dance Party from 6:00 PM to 9:00 PM EST! This event promises not only a good time\, cash prize drawing\, but also the invigorating sounds of DJ Vince Adams but also a meaningful opportunity to support the Community Impact initiatives for the 54th Eastern Region Conference of Delta Sigma Theta\, Sorority Inc. \nYou can purchase tickets at the following link: https://form.jotform.com/techdstquakercity/54ERC-Virtual-Dance-Party \nSo tell a friend to tell a friend and we will see you there!\n#PhillyDeltas\n#DST1913
URL:https://phillyalumnae-dst.org/event/show-the-love-virtual-dance-party/
LOCATION:Virtual\, PA\, United States
CATEGORIES:Fundraiser,Open to public
ATTACH;FMTTYPE=image/png:https://phillyalumnae-dst.org/wp-content/uploads/2024/02/VIRTUAL-DANCE-PARTY-FINAL-2-1.png
END:VEVENT
BEGIN:VEVENT
DTSTART;TZID=America/New_York:20240229T190000
DTEND;TZID=America/New_York:20240229T210000
DTSTAMP:20260423T051232
CREATED:20240129T233948Z
LAST-MODIFIED:20240215T173112Z
UID:16399-1709233200-1709240400@phillyalumnae-dst.org
SUMMARY:Black Love: The Journey Continues...
DESCRIPTION:Join the Philadelphia Alumnae Chapter in our virtual town hall discussion aimed at raising awareness about\nmissing and exploited Black children. Our goal is to empower families to create safe\, secure\, and nurturing environments\nfor their children. This discussion will be led by a panel of community experts\, including representatives from the police\,\nthe courts\, family and child specialists\, mental health providers\, and others. It will serve as a precursor to our\nRegional Day of Service\, which will also take place on Saturday\, March 16\, 2024. During this day\, we will actively engage with\nfamilies and children in five communities throughout the city. Stay tuned for further details on this upcoming event.\nRegister for Black Love: The Journey Continues…\,  which will be held VIRTUALLY on  Thursday\, February 29th from 7-9PM. \nClick HERE to register for this important event! \n#MissingChildren #PhysicalandMentalHealth #PhillyDeltas
URL:https://phillyalumnae-dst.org/event/black-love-the-journey-continues/
LOCATION:Virtual\, PA\, United States
CATEGORIES:Open to public,Physical and Mental Health
ATTACH;FMTTYPE=image/png:https://phillyalumnae-dst.org/wp-content/uploads/2024/01/Updated-Black-Love-Flyer.png
ORGANIZER;CN="Physical and Mental Health":MAILTO:health@phillyalumnae-dst.org
END:VEVENT
END:VCALENDAR