BEGIN:VCALENDAR
VERSION:2.0
PRODID:-//Philadelphia Alumnae Chapter - ECPv6.15.20//NONSGML v1.0//EN
CALSCALE:GREGORIAN
METHOD:PUBLISH
X-ORIGINAL-URL:https://phillyalumnae-dst.org
X-WR-CALDESC:Events for Philadelphia Alumnae Chapter
REFRESH-INTERVAL;VALUE=DURATION:PT1H
X-Robots-Tag:noindex
X-PUBLISHED-TTL:PT1H
BEGIN:VTIMEZONE
TZID:America/New_York
BEGIN:DAYLIGHT
TZOFFSETFROM:-0500
TZOFFSETTO:-0400
TZNAME:EDT
DTSTART:20230312T070000
END:DAYLIGHT
BEGIN:STANDARD
TZOFFSETFROM:-0400
TZOFFSETTO:-0500
TZNAME:EST
DTSTART:20231105T060000
END:STANDARD
BEGIN:DAYLIGHT
TZOFFSETFROM:-0500
TZOFFSETTO:-0400
TZNAME:EDT
DTSTART:20240310T070000
END:DAYLIGHT
BEGIN:STANDARD
TZOFFSETFROM:-0400
TZOFFSETTO:-0500
TZNAME:EST
DTSTART:20241103T060000
END:STANDARD
BEGIN:DAYLIGHT
TZOFFSETFROM:-0500
TZOFFSETTO:-0400
TZNAME:EDT
DTSTART:20250309T070000
END:DAYLIGHT
BEGIN:STANDARD
TZOFFSETFROM:-0400
TZOFFSETTO:-0500
TZNAME:EST
DTSTART:20251102T060000
END:STANDARD
END:VTIMEZONE
BEGIN:VEVENT
DTSTART;TZID=America/New_York:20241207T100000
DTEND;TZID=America/New_York:20241207T130000
DTSTAMP:20260420T000030
CREATED:20140201T041111Z
LAST-MODIFIED:20140201T041111Z
UID:14623-1733565600-1733576400@phillyalumnae-dst.org
SUMMARY:Chapter Meeting
DESCRIPTION:
URL:https://phillyalumnae-dst.org/event/chapter-meeting-2-2024-12-07/
LOCATION:Gratz College\, 7605 Old York Rd\, Elkins Park\, PA\, 19027\, United States
CATEGORIES:For Sorors Only,PAC Only
END:VEVENT
BEGIN:VEVENT
DTSTART;TZID=America/New_York:20241213T190000
DTEND;TZID=America/New_York:20241213T210000
DTSTAMP:20260420T000030
CREATED:20141017T201220Z
LAST-MODIFIED:20141017T201220Z
UID:14652-1734116400-1734123600@phillyalumnae-dst.org
SUMMARY:Com Mtg: Fundraising
DESCRIPTION:
URL:https://phillyalumnae-dst.org/event/com-mtg-fundraising-2024-12-13/
LOCATION:Warnock Place\, 2862 Germantown Ave\, Philadelphia\, 19121\, United States
CATEGORIES:Fundraiser,PAC Only
ORGANIZER;CN="Ways and Means Committee":MAILTO:fundraising@phillyalumnae-dst.org
END:VEVENT
BEGIN:VEVENT
DTSTART;VALUE=DATE:20241218
DTEND;VALUE=DATE:20241219
DTSTAMP:20260420T000030
CREATED:20241029T223148Z
LAST-MODIFIED:20241029T223148Z
UID:17481-1734480000-1734566399@phillyalumnae-dst.org
SUMMARY:St. Jude's Holiday Toy Drive
DESCRIPTION:Sorors\, family and friends of the Philadelphia Alumnae Chapter of Delta Sigma Theta Sorority\, Inc. please help us support our National Charitable Partner by donating a toy to the St. Jude’s Children’s Research Hospital to provide a shopping opportunity for caregivers of children who remain on the hospital campus during the holiday season.\nClick here to visit the purchase link!\nEvery child deserves hope for a cure and every child deserves a toy to bring joy during the holiday season!!! \n#PhillyDeltas \n#StJudeEndingChildhoodCancer
URL:https://phillyalumnae-dst.org/event/st-judes-holiday-toy-drive/
LOCATION:PA
CATEGORIES:Open to public
ATTACH;FMTTYPE=image/png:https://phillyalumnae-dst.org/wp-content/uploads/2024/10/PAC-St-Jude-Toy-Drive-Cheryl-Boddy-Oakman-scaled.png
ORGANIZER;CN="Charitable Partners":MAILTO:charitable.partners@phillyalumnae-dst.org
END:VEVENT
BEGIN:VEVENT
DTSTART;TZID=America/New_York:20241218T190000
DTEND;TZID=America/New_York:20241218T210000
DTSTAMP:20260420T000030
CREATED:20140318T183755Z
LAST-MODIFIED:20140318T183755Z
UID:14660-1734548400-1734555600@phillyalumnae-dst.org
SUMMARY:Executive Board Meeting
DESCRIPTION:
URL:https://phillyalumnae-dst.org/event/executive-board-meeting-2016-07-18-2021-01-19-2024-12-18/
LOCATION:Virtual\, PA\, United States
CATEGORIES:PAC Only
END:VEVENT
BEGIN:VEVENT
DTSTART;TZID=America/New_York:20241224T190000
DTEND;TZID=America/New_York:20241224T210000
DTSTAMP:20260420T000030
CREATED:20140319T185658Z
LAST-MODIFIED:20140319T185658Z
UID:14671-1735066800-1735074000@phillyalumnae-dst.org
SUMMARY:NPHC Meeting
DESCRIPTION:
URL:https://phillyalumnae-dst.org/event/nphcmtg-2-2024-12-24/
LOCATION:Mu Omega House\, 421 Locust Ave\, Philadelphia
CATEGORIES:PAC Only
END:VEVENT
END:VCALENDAR